BEGIN:VCALENDAR
VERSION:2.0
PRODID:-//ChamberMaster//Event Calendar 2.0//EN
METHOD:PUBLISH
X-PUBLISHED-TTL:P3D
REFRESH-INTERVAL:P3D
CALSCALE:GREGORIAN
BEGIN:VEVENT
DTSTART:20230110T170000Z
DTEND:20230110T180000Z
X-MICROSOFT-CDO-ALLDAYEVENT:FALSE
SUMMARY:Ribbon Cutting: Kool Bean
DESCRIPTION:Join us for the Ribbon Cutting of Kool Bean! Kool Bean is a coffee shop and cafe that specializes in a variety of coffees\, teas and food. Attendee can enjoy lunch and a selection of door prizes. Please register!
X-ALT-DESC;FMTTYPE=text/html:<span style="font-size:14px\;"><span style="font-family:tahoma\;">Join us for the Ribbon Cutting of Kool Bean! Kool Bean is a coffee shop and cafe that specializes in a variety of coffees\, teas and food. Attendee can enjoy lunch and a selection of door prizes. Please register!</span></span>
LOCATION:300 Bullsboro Drive\, Suite A Newnan\, GA 30263
UID:e.468.18607
SEQUENCE:3
DTSTAMP:20260422T160336Z
URL:https://www.newnancowetachamber.org/events/details/ribbon-cutting-kool-bean-18607
END:VEVENT

END:VCALENDAR
