BEGIN:VCALENDAR
VERSION:2.0
PRODID:-//ChamberMaster//Event Calendar 2.0//EN
METHOD:PUBLISH
X-PUBLISHED-TTL:P3D
REFRESH-INTERVAL:P3D
CALSCALE:GREGORIAN
BEGIN:VEVENT
DTSTART:20240723T160000Z
DTEND:20240723T170000Z
X-MICROSOFT-CDO-ALLDAYEVENT:FALSE
SUMMARY:Ribbon Cutting: Liquor Maxx Newnan
DESCRIPTION:Please join the Newnan-Coweta Chamber in celebrating the ribbon cutting at Liquor Maxx Newnan! Liquor Maxx Newnan is your go-to destination for a diverse range of top-notch liquor brands. Food & Beverages\, Door Prizes\, and Special Discounts.
X-ALT-DESC;FMTTYPE=text/html:Please join the Newnan-Coweta Chamber in celebrating the ribbon cutting at Liquor Maxx Newnan!&nbsp\;Liquor Maxx Newnan is your go-to destination for a diverse range of top-notch liquor brands.&nbsp\;Food &amp\; Beverages\, Door Prizes\, and Special Discounts.
LOCATION:459 Millard Farmer Industrial Blvd. Newnan\, GA 30263
UID:e.468.20494
SEQUENCE:3
DTSTAMP:20260420T015851Z
URL:https://www.newnancowetachamber.org/events/details/ribbon-cutting-liquor-maxx-newnan-20494
END:VEVENT

END:VCALENDAR
