BEGIN:VCALENDAR
VERSION:2.0
PRODID:-//ChamberMaster//Event Calendar 2.0//EN
METHOD:PUBLISH
X-PUBLISHED-TTL:P3D
REFRESH-INTERVAL:P3D
CALSCALE:GREGORIAN
BEGIN:VEVENT
DTSTART:20220302T170000Z
DTEND:20220302T180000Z
X-MICROSOFT-CDO-ALLDAYEVENT:FALSE
SUMMARY:Ribbon Cutting: Live Oak Exteriors\, LLC
DESCRIPTION:Join us for the Ribbon Cutting of Live Oak Roofing + Exteriors! Live Oak was founded on the principle of treating customers and employees like family. They strive to ensure the best and most professional experience possible. Live Oak specializes in roof replacement\, roof repairs\, gutters\, and exteriors maintenance. They exclusively offer Owens Corning roofing products to all customers. Their products offer a wide variety of styles\, colors\, and components that allow Live Oak Roofing + Exteriors to keep your home as strong as an oak! For everyone who attends the event\, Live Oak hosts a drawing for 4 Concert Club Box Seats to the Atlanta Hawks with parking\, dinner\, and drinks included! Fingers foods\, drinks\, and snacks are served at the event. Please register!
X-ALT-DESC;FMTTYPE=text/html:<span style="font-family:tahoma\;"><span style="font-size:14px\;"><span style="caret-color: rgb(0\, 0\, 0)\; color: rgb(0\, 0\, 0)\; text-size-adjust: auto\;">Join us for the Ribbon Cutting of Live Oak Roofing + Exteriors! Live Oak was founded on the principle of treating customers and employees like family. They strive to ensure the best and most professional experience possible. Live Oak specializes in roof replacement\, roof repairs\, gutters\, and exteriors maintenance. They exclusively offer Owens Corning roofing products to all customers. Their products offer a wide variety of styles\, colors\, and components that allow Live Oak Roofing + Exteriors to keep your home as strong as an oak! For&nbsp\;everyone who attends the event\, Live Oak hosts a drawing for </span><span style="color: rgb(0\, 0\, 0)\; caret-color: rgb(0\, 0\, 0)\;">4 Concert Club Box Seats to the Atlanta Hawks with parking\, dinner\, and drinks included</span><span style="caret-color: rgb(0\, 0\, 0)\; color: rgb(0\, 0\, 0)\; text-size-adjust: auto\;">! Fingers foods\, drinks\, and snacks are served at the event. Please register!</span></span></span>
LOCATION:147 Jackson Street Newnan\, GA 30263
UID:e.468.18242
SEQUENCE:3
DTSTAMP:20260424T191904Z
URL:https://www.newnancowetachamber.org/events/details/ribbon-cutting-live-oak-exteriors-llc-18242
END:VEVENT

END:VCALENDAR
