BEGIN:VCALENDAR
VERSION:2.0
PRODID:-//ChamberMaster//Event Calendar 2.0//EN
METHOD:PUBLISH
X-PUBLISHED-TTL:P3D
REFRESH-INTERVAL:P3D
CALSCALE:GREGORIAN
BEGIN:VEVENT
DTSTART:20230921T160000Z
DTEND:20230921T170000Z
X-MICROSOFT-CDO-ALLDAYEVENT:FALSE
SUMMARY:Ribbon Cutting: Marketplace Beverage
DESCRIPTION:Join the Chamber for a Ribbon Cutting at Marketplace Beverage! Lunch will be provided. Please RSVP!
X-ALT-DESC;FMTTYPE=text/html:Join the Chamber for a Ribbon Cutting at Marketplace Beverage! Lunch will be provided. Please RSVP!&nbsp\;&nbsp\;&nbsp\;&nbsp\;&nbsp\;&nbsp\;&nbsp\;&nbsp\;&nbsp\;&nbsp\;&nbsp\;&nbsp\;&nbsp\;&nbsp\;&nbsp\;&nbsp\;
LOCATION:50 Marketplace Drive Newnan\, GA 30265
UID:e.468.19132
SEQUENCE:3
DTSTAMP:20260420T051910Z
URL:https://www.newnancowetachamber.org/events/details/ribbon-cutting-marketplace-beverage-19132
END:VEVENT

END:VCALENDAR
