BEGIN:VCALENDAR
VERSION:2.0
PRODID:-//ChamberMaster//Event Calendar 2.0//EN
METHOD:PUBLISH
X-PUBLISHED-TTL:P3D
REFRESH-INTERVAL:P3D
CALSCALE:GREGORIAN
BEGIN:VEVENT
DTSTART:20230713T213000Z
DTEND:20230713T223000Z
X-MICROSOFT-CDO-ALLDAYEVENT:FALSE
SUMMARY:Ribbon Cutting: McDaniels Acura of Newnan
DESCRIPTION:Join the Newnan-Coweta Chamber for the Ribbon Cutting of McDaniels Acura of Newnan! McDaniels Acura is a luxury import automotive retailer. They also provide services and parts needed for customers. As the newest addition to the McDaniels Automotive Group\, they could not be happier to be a part of the Newnan community. Attendees can enjoy heavy hors d'oeuvres\, cocktails & non-alcoholic drink options\, and a brief presentation. Please register!
X-ALT-DESC;FMTTYPE=text/html:<span style="font-size:14px\;"><span style="font-family:tahoma\;">Join the Newnan-Coweta Chamber for the Ribbon Cutting of McDaniels Acura of Newnan! McDaniels Acura is<span style="caret-color: rgb(0\, 0\, 0)\; text-size-adjust: auto\;">&nbsp\;a luxury import automotive retailer. They also provide services and parts needed for customers. As the newest addition to the McDaniels Automotive Group\, they could not be happier to be a part of the Newnan community. Attendees can enjoy heavy hors d&#39\;oeuvres\, cocktails &amp\; non-alcoholic drink options\, and a brief presentation. Please register!</span></span></span>
LOCATION:8000 McIntosh Parkway Newnan\, Georgia 30263
UID:e.468.18939
SEQUENCE:3
DTSTAMP:20260420T071217Z
URL:https://www.newnancowetachamber.org/events/details/ribbon-cutting-mcdaniels-acura-of-newnan-18939
END:VEVENT

END:VCALENDAR
