BEGIN:VCALENDAR
VERSION:2.0
PRODID:-//ChamberMaster//Event Calendar 2.0//EN
METHOD:PUBLISH
X-PUBLISHED-TTL:P3D
REFRESH-INTERVAL:P3D
CALSCALE:GREGORIAN
BEGIN:VEVENT
DTSTART:20220614T170000Z
DTEND:20220614T180000Z
X-MICROSOFT-CDO-ALLDAYEVENT:FALSE
SUMMARY:Ribbon Cutting: Meals on Wheels of Coweta/Coweta Community Foundation
DESCRIPTION:Join us for the Ribbon Cutting of Meals on Wheels Coweta/Coweta Community Foundation! \n\n\n\nMeals on Wheels of Coweta\, Inc.\, (MOWOC) was established in 1981 and designated as a 501(c)(3) organization in 1994. MOWOC offers four services - home delivered meals\, handyman services\, pet care assistance\, and friendly visitor services   at no cost to clients. \n\n\n\nCoweta Community Foundation was established to maintain the charitable intent of donors and to act as a catalyst to help focus local philanthropy on our community's changing needs. The Foundation manages funds that directly support a variety of community interests such as women's and children's issues\, public safety\, education\, and the arts.\n\nStay tuned for more details about the celebration!
X-ALT-DESC;FMTTYPE=text/html:<span style="font-size:14px\;"><span style="font-family:tahoma\;">Join us for the Ribbon Cutting of Meals on Wheels Coweta/Coweta Community Foundation!&nbsp\;</span><br />\n<br />\n<span id="docs-internal-guid-8b7ea718-7fff-0839-e0d6-8facbfbcd153" style="caret-color: rgb(0\, 0\, 0)\;"><span style="font-family: Tahoma\, sans-serif\; font-variant-ligatures: normal\; font-variant-east-asian: normal\; font-variant-position: normal\; vertical-align: baseline\; white-space: pre-wrap\;">Meals on Wheels of Coweta\, Inc.\, (MOWOC) was established in 1981 and designated as a 501(c)(3) organization in 1994. MOWOC offers four services - home delivered meals\, handyman services\, pet care assistance\, and friendly visitor services &ndash\; at no cost to clients. </span></span><br />\n<br />\n<span id="docs-internal-guid-28817165-7fff-88dd-d6f8-d64ec2f4b25e" style="caret-color: rgb(0\, 0\, 0)\;"><span style="font-family: Tahoma\, sans-serif\; font-variant-ligatures: normal\; font-variant-east-asian: normal\; font-variant-position: normal\; vertical-align: baseline\; white-space: pre-wrap\;">Coweta Community Foundation was established to maintain the charitable intent of donors and to act as a catalyst to help focus local philanthropy on our community&rsquo\;s changing needs. The Foundation manages funds that directly support a variety of community interests such as women&rsquo\;s and children&rsquo\;s issues\, public safety\, education\, and the arts.<br />\nStay tuned for more details about the celebration!</span></span></span>
LOCATION:30 Bledsoe Road\, Unit 2 Newnan\, GA 30265
UID:e.468.18394
SEQUENCE:3
DTSTAMP:20260424T135800Z
URL:https://www.newnancowetachamber.org/events/details/ribbon-cutting-meals-on-wheels-of-coweta-coweta-community-foundation-18394
END:VEVENT

END:VCALENDAR
