BEGIN:VCALENDAR
VERSION:2.0
PRODID:-//ChamberMaster//Event Calendar 2.0//EN
METHOD:PUBLISH
X-PUBLISHED-TTL:P3D
REFRESH-INTERVAL:P3D
CALSCALE:GREGORIAN
BEGIN:VEVENT
DTSTART:20210503T160000Z
DTEND:20210503T170000Z
X-MICROSOFT-CDO-ALLDAYEVENT:FALSE
SUMMARY:Ribbon Cutting: MemoryLane Studio
DESCRIPTION:Please join the Newnan-Coweta Chamber in celebrating the grand opening and ribbon cutting of MemoryLane Studio! MemoryLane Studio is the photography business of photographer\, Amanda Wallace. MemoryLane Studio loves to capture the sweet moments of life! In honor of the grand opening\, MemoryLane Studio is graciously offering 20% off purchases\, and lunch will be provided. Please register!
X-ALT-DESC;FMTTYPE=text/html:<span style="font-size:14px\;"><span style="font-family:tahoma\;">Please join the Newnan-Coweta Chamber in celebrating the grand opening and ribbon cutting of MemoryLane Studio! MemoryLane Studio is the photography business of photographer\, Amanda Wallace. MemoryLane Studio loves to capture the sweet moments of life! In honor of the grand opening\, MemoryLane Studio is graciously offering 20% off purchases\, and lunch will be provided. Please register!</span></span>
LOCATION:1774 Highway 154 Sharpsburg
UID:e.468.17444
SEQUENCE:3
DTSTAMP:20260425T112659Z
URL:https://www.newnancowetachamber.org/events/details/ribbon-cutting-memorylane-studio-17444
END:VEVENT

END:VCALENDAR
