BEGIN:VCALENDAR
VERSION:2.0
PRODID:-//ChamberMaster//Event Calendar 2.0//EN
METHOD:PUBLISH
X-PUBLISHED-TTL:P3D
REFRESH-INTERVAL:P3D
CALSCALE:GREGORIAN
BEGIN:VEVENT
DTSTART:20231113T153000Z
DTEND:20231113T163000Z
X-MICROSOFT-CDO-ALLDAYEVENT:FALSE
SUMMARY:Ribbon Cutting: Miller's Ale House
DESCRIPTION:Join the Newnan-Coweta Chamber for a ribbon cutting celebrating Miller's Ale House!\n\n\n\nThe first Miller's Ale House opened in 1988\, in Jupiter\, Florida\, as a local place to be enjoyed by all walks of life. We are a sports-themed casual dining restaurant with 100+ locations in 10 states. A place where making friends is as easy as ordering your next beer. So whether you're here to chill\, cheer\, chow down or get charged up\, you'll find a whole House full of friends and friends-to-be\, ready to join in. \n\n\n\nLunch will be served to attending Chamber members!
X-ALT-DESC;FMTTYPE=text/html:<span style="color: rgb(0\, 0\, 0)\; font-family: Calibri\, Helvetica\, sans-serif\, Helvetica\, EmojiFont\, &quot\;Apple Color Emoji&quot\;\, &quot\;Segoe UI Emoji&quot\;\, NotoColorEmoji\, &quot\;Segoe UI Symbol&quot\;\, &quot\;Android Emoji&quot\;\, EmojiSymbols\; font-size: 16px\;">Join the Newnan-Coweta Chamber for a ribbon cutting celebrating Miller&#39\;s Ale House!<br />\n<br />\nThe first Miller&rsquo\;s Ale House opened in 1988\, in Jupiter\, Florida\, as a local place to be enjoyed by all walks of life. We are a sports-themed casual dining restaurant with 100+ locations in 10 states. A place where making friends is as easy as ordering your next beer. So whether you&rsquo\;re here to chill\, cheer\, chow down or get charged up\, you&rsquo\;ll find a whole House full of friends and friends-to-be\, ready to join in.&nbsp\;<br />\n<br />\nLunch will be served to attending Chamber members!</span>
LOCATION:60 Fischer Market Place Ln. Sharpsburg\, GA 30277
UID:e.468.19946
SEQUENCE:3
DTSTAMP:20260420T015709Z
URL:https://www.newnancowetachamber.org/events/details/ribbon-cutting-miller-s-ale-house-19946
END:VEVENT

END:VCALENDAR
