BEGIN:VCALENDAR
VERSION:2.0
PRODID:-//ChamberMaster//Event Calendar 2.0//EN
METHOD:PUBLISH
X-PUBLISHED-TTL:P3D
REFRESH-INTERVAL:P3D
CALSCALE:GREGORIAN
BEGIN:VEVENT
DTSTART:20220322T200000Z
DTEND:20220322T210000Z
X-MICROSOFT-CDO-ALLDAYEVENT:FALSE
SUMMARY:Ribbon Cutting: Mobility Plus-Newnan\, GA
DESCRIPTION:Join the Ribbon Cutting of Mobility Plus-Newnan! At Mobility Plus they sell\, rent\, repair and install all types of mobility and fall prevention equipment including scooters\, power chairs\, lift chairs\, auto lifts\, patient lifts\, ramps for home\, wheelchairs\, transport chairs\, walkers\, grab bars\, hospital beds\, home health aids and many others! Through their retail operation\, they provide the highest quality of products at an affordable cost to the caregiver and the customer. Mobility Plus works with home health caregivers\, assisted living facilities\, ortho clinics\, doctors\, hospitals\, local school sports programs and the general public. Food\, beverages\, and door prizes are provided at the event. Please register!
X-ALT-DESC;FMTTYPE=text/html:<font color="#000000" face="tahoma"><span style="font-size: 14px\;">Join the Ribbon&nbsp\;Cutting of Mobility Plus-Newnan! At Mobility Plus they sell\, rent\, repair and install all types of mobility and fall prevention equipment including scooters\, power chairs\, lift chairs\, auto lifts\, patient lifts\, ramps for home\, wheelchairs\, transport chairs\, walkers\, grab bars\, hospital beds\, home health aids and many others! Through&nbsp\;their&nbsp\;retail operation\, they provide the highest quality of products at an affordable cost to the caregiver and the customer. Mobility Plus works with home health caregivers\, assisted living facilities\, ortho clinics\, doctors\, hospitals\, local school sports programs and the general public. Food\, beverages\, and door prizes are provided at the event. Please register!</span></font>
LOCATION:2730 Highway 34 E\, Building 2 Suite B Newnan\, GA 30265
UID:e.468.18277
SEQUENCE:3
DTSTAMP:20260424T191159Z
URL:https://www.newnancowetachamber.org/events/details/ribbon-cutting-mobility-plus-newnan-ga-18277
END:VEVENT

END:VCALENDAR
