BEGIN:VCALENDAR
VERSION:2.0
PRODID:-//ChamberMaster//Event Calendar 2.0//EN
METHOD:PUBLISH
X-PUBLISHED-TTL:P3D
REFRESH-INTERVAL:P3D
CALSCALE:GREGORIAN
BEGIN:VEVENT
DTSTART:20231128T170000Z
DTEND:20231128T180000Z
X-MICROSOFT-CDO-ALLDAYEVENT:FALSE
SUMMARY:Ribbon Cutting: Moore Bass Consulting
DESCRIPTION:Join the Newnan-Coweta Chamber for a Ribbon Cutting at Moore Bass Consulting! Moore Bass Consulting\, Inc. is a professional\, multi-disciplinary civil engineering firm providing design\, land use planning\, land surveying\, landscape architecture\, and land development consulting services to public and private clients throughout the Southeast United States.
X-ALT-DESC;FMTTYPE=text/html:<span style="font-size:14px\;"><span style="font-family:arial\;">Join the Newnan-Coweta Chamber for a Ribbon Cutting at Moore Bass Consulting!&nbsp\;<font color="#2D2D2D">Moore Bass Consulting\, Inc. is a professional\, multi-disciplinary civil engineering firm providing&nbsp\;design\, land use planning\, land surveying\, landscape architecture\, and land development consulting services to public and private clients througho</font><font color="#0A2366">ut t</font><font color="#2D2D2D">he Southeast United States.</font></span></span>
LOCATION:37 Calumet Pkwy. Bldg. L\, Suite 100 Newnan\, GA 30263
UID:e.468.19128
SEQUENCE:3
DTSTAMP:20260420T003609Z
URL:https://www.newnancowetachamber.org/events/details/ribbon-cutting-moore-bass-consulting-19128
END:VEVENT

END:VCALENDAR
