BEGIN:VCALENDAR
VERSION:2.0
PRODID:-//ChamberMaster//Event Calendar 2.0//EN
METHOD:PUBLISH
X-PUBLISHED-TTL:P3D
REFRESH-INTERVAL:P3D
CALSCALE:GREGORIAN
BEGIN:VEVENT
DTSTART:20230405T160000Z
DTEND:20230405T170000Z
X-MICROSOFT-CDO-ALLDAYEVENT:FALSE
SUMMARY:Ribbon Cutting: Mr. Clean Car Wash
DESCRIPTION:Join us for the Ribbon Cutting of Mr. Clean Car Wash! Mr. Clean Car Wash is celebrating two years at their Sharpsburg location by hosting FREE car washes and specials on their unlimited plans. Please register!
X-ALT-DESC;FMTTYPE=text/html:<span style="font-size:14px\;"><span style="font-family:tahoma\;">Join us for the Ribbon Cutting of Mr. Clean Car Wash! Mr. Clean Car Wash is celebrating two years at their Sharpsburg location by hosting FREE car washes and specials on their unlimited plans. Please register!</span></span>
LOCATION:18 Bailey Station Circle Sharpsburg\, Georgia 30277
UID:e.468.18813
SEQUENCE:3
DTSTAMP:20260422T113353Z
URL:https://www.newnancowetachamber.org/events/details/ribbon-cutting-mr-clean-car-wash-18813
END:VEVENT

END:VCALENDAR
