BEGIN:VCALENDAR
VERSION:2.0
PRODID:-//ChamberMaster//Event Calendar 2.0//EN
METHOD:PUBLISH
X-PUBLISHED-TTL:P3D
REFRESH-INTERVAL:P3D
CALSCALE:GREGORIAN
BEGIN:VEVENT
DTSTART:20231019T160000Z
DTEND:20231019T170000Z
X-MICROSOFT-CDO-ALLDAYEVENT:FALSE
SUMMARY:Ribbon Cutting: Newnan Bottle Shop
DESCRIPTION:Join the Newnan-Coweta Chamber for a Ribbon Cutting celebrating Newnan Bottle Shop. Newnan Bottle Shop is a new liquor store on Lower Fayetteville Rd.
X-ALT-DESC;FMTTYPE=text/html:Join the Newnan-Coweta Chamber for a Ribbon Cutting celebrating Newnan Bottle Shop. Newnan Bottle Shop is a new liquor store on Lower Fayetteville Rd.&nbsp\;&nbsp\;&nbsp\;&nbsp\;&nbsp\;&nbsp\;&nbsp\;&nbsp\;&nbsp\;&nbsp\;&nbsp\;&nbsp\;&nbsp\;&nbsp\;&nbsp\;&nbsp\;
LOCATION:937 Lower Fayetteville Rd. Newnan\, GA 30263
UID:e.468.19131
SEQUENCE:3
DTSTAMP:20260420T015851Z
URL:https://www.newnancowetachamber.org/events/details/ribbon-cutting-newnan-bottle-shop-19131
END:VEVENT

END:VCALENDAR
