BEGIN:VCALENDAR
VERSION:2.0
PRODID:-//ChamberMaster//Event Calendar 2.0//EN
METHOD:PUBLISH
X-PUBLISHED-TTL:P3D
REFRESH-INTERVAL:P3D
CALSCALE:GREGORIAN
BEGIN:VEVENT
DTSTART:20220420T160000Z
DTEND:20220420T170000Z
X-MICROSOFT-CDO-ALLDAYEVENT:FALSE
SUMMARY:Ribbon Cutting: Newnan-Coweta Habitat for Humanity
DESCRIPTION:Join us for the Ribbon Cutting of Newnan-Coweta Habitat for Humanity! Founded in 1993\, Newnan-Coweta Habitat builds homes\, futures communities\, and brings hope in Coweta County\, Georgia. Habitat envisions a world where everyone has a decent\, safe\, and affordable place to live. In celebration of the completion of the first two homes of East Broad Estates\, Coweta County's first Habitat for Humanity development\, the Ribbon Cutting will take place at the houses on 6 East Broad Lane. Come enjoy light refreshments while touring these beautiful\, energy efficient homes. The owners of the townhomes on McIntosh Pkwy have graciously offered the grassy lot connected to their property as overflow parking during the event. Please register!
X-ALT-DESC;FMTTYPE=text/html:<span style="font-size:14px\;">Join us for the Ribbon Cutting of Newnan-Coweta Habitat for Humanity!&nbsp\;<span style="caret-color: rgb(0\, 0\, 0)\;">Founded in 1993\, Newnan-Coweta Habitat builds homes\,&nbsp\;futures&nbsp\;communities\, and brings hope in Coweta County\, Georgia. Habitat envisions a world where everyone has a decent\, safe\, and affordable place to live. In celebration of the</span><span style="caret-color: rgb(0\, 0\, 0)\;">&nbsp\;completion of the first two homes of East Broad Estates\, Coweta County&#39\;s first Habitat for Humanity development\, the Ribbon Cutting will take place at the houses on 6 East Broad Lane. Come enjoy light refreshments while touring these beautiful\, energy efficient homes.&nbsp\;</span><font style="font-family: Calibri\, Helvetica\, sans-serif\, serif\, EmojiFont\;">The owners of the townhomes on McIntosh Pkwy have graciously offered the grassy lot connected to their property as overflow parking during the event. Please register!</font></span>
LOCATION:6 East Broad Lane Newnan\, Georgia 30263
UID:e.468.18370
SEQUENCE:3
DTSTAMP:20260424T191509Z
URL:https://www.newnancowetachamber.org/events/details/ribbon-cutting-newnan-coweta-habitat-for-humanity-18370
END:VEVENT

END:VCALENDAR
