BEGIN:VCALENDAR
VERSION:2.0
PRODID:-//ChamberMaster//Event Calendar 2.0//EN
METHOD:PUBLISH
X-PUBLISHED-TTL:P3D
REFRESH-INTERVAL:P3D
CALSCALE:GREGORIAN
BEGIN:VEVENT
DTSTART:20210514T140000Z
DTEND:20210514T150000Z
X-MICROSOFT-CDO-ALLDAYEVENT:FALSE
SUMMARY:Ribbon Cutting: Nothing Bundt Cakes
DESCRIPTION:First-to-market for Newnan\, Nothing Bundt Cakes bakery offers delicious\, handcrafted Bundt cakes in a variety of sizes and classic flavors. Perfect for any occasion\, each recipe uses real eggs\, butter\, and cream cheese to achieve that homemade taste. Anyone who attends will receive a free bundtlet cake as a thank you!
X-ALT-DESC;FMTTYPE=text/html:<span style="font-size:14px\;"><span style="font-family:tahoma\;"><span style="caret-color: rgb(34\, 34\, 34)\; color: rgb(34\, 34\, 34)\;">First-to-market for Newnan\, Nothing Bundt Cakes bakery offers delicious\, handcrafted Bundt cakes in a variety of sizes and classic flavors. Perfect for any occasion\, each recipe uses real eggs\, butter\, and cream cheese to achieve that homemade taste. Anyone who attends will receive a free&nbsp\;</span></span></span><font color="#222222" face="tahoma"><span style="caret-color: rgb(34\, 34\, 34)\; font-size: 14px\;">bundtlet cake as a thank you!</span></font>
LOCATION:371 Newnan Crossing Bypass
UID:e.468.17414
SEQUENCE:3
DTSTAMP:20260425T112716Z
URL:https://www.newnancowetachamber.org/events/details/ribbon-cutting-nothing-bundt-cakes-17414
END:VEVENT

END:VCALENDAR
