BEGIN:VCALENDAR
VERSION:2.0
PRODID:-//ChamberMaster//Event Calendar 2.0//EN
METHOD:PUBLISH
X-PUBLISHED-TTL:P3D
REFRESH-INTERVAL:P3D
CALSCALE:GREGORIAN
BEGIN:VEVENT
DTSTART:20220309T210000Z
DTEND:20220309T220000Z
X-MICROSOFT-CDO-ALLDAYEVENT:FALSE
SUMMARY:Ribbon Cutting: Pace Lynch
DESCRIPTION:Join us for the Ribbon Cutting celebration of the Newnan location of Pace Lynch! Pace Lynch is a commercial real estate company that provides services such as leasing\, selling\, and developing. They are devoted to creating remarkable real estate solutions! Food\, beverages\, and door prizes are available during the event. Please register.
X-ALT-DESC;FMTTYPE=text/html:<font color="#000000" face="tahoma"><span style="caret-color: rgb(0\, 0\, 0)\; font-size: 14px\;">Join us for the Ribbon Cutting celebration of the Newnan location of Pace Lynch! Pace Lynch is a commercial real estate company that provides services such as leasing\, selling\, and developing. They are devoted to creating remarkable real estate solutions! Food\, beverages\, and door prizes are available&nbsp\;during the event. Please register.&nbsp\;</span></font>
LOCATION:24 Jackson Street Newnan\, GA 30263
UID:e.468.18274
SEQUENCE:3
DTSTAMP:20260424T191017Z
URL:https://www.newnancowetachamber.org/events/details/ribbon-cutting-pace-lynch-18274
END:VEVENT

END:VCALENDAR
