BEGIN:VCALENDAR
VERSION:2.0
PRODID:-//ChamberMaster//Event Calendar 2.0//EN
METHOD:PUBLISH
X-PUBLISHED-TTL:P3D
REFRESH-INTERVAL:P3D
CALSCALE:GREGORIAN
BEGIN:VEVENT
DTSTART:20230322T160000Z
DTEND:20230322T170000Z
X-MICROSOFT-CDO-ALLDAYEVENT:FALSE
SUMMARY:Ribbon Cutting: Percolate Brew & Boutique
DESCRIPTION:Join us for the Ribbon Cutting and celebration of new ownership of Percolate Brew & Boutique! The atmosphere at Percolate Brew & Boutique is inviting and comfortable for meeting family\, friends or co-workers for a cup (or two!) of coffee and some food. As Percolate transitions their services into a full kitchen\, they are growing their menu options daily. They also plan to offer catering and coffee cart services! Attendees can enjoy appetizers and beverages\, as well as door prizes and 10% discount for all purchases made during the event. Please register!
X-ALT-DESC;FMTTYPE=text/html:<span style="font-size:14px\;"><span style="font-family:tahoma\;"><span style="caret-color: rgb(0\, 0\, 0)\;">Join us for the Ribbon Cutting and celebration of new ownership of Percolate Brew &amp\; Boutique! The atmosphere at Percolate Brew &amp\; Boutique is inviting and comfortable for meeting family\, friends or co-workers for a cup (or two!) of coffee and some food. As Percolate transitions their services into a full kitchen\, they are growing their menu options daily. They also plan to offer catering and coffee cart services! Attendees can enjoy&nbsp\;</span><span style="caret-color: rgb(0\, 0\, 0)\;">appetizers and beverages\, as well as door prizes and 10% discount for all purchases made during the event. Please register!</span></span></span>
LOCATION:21 Market Square Way\, Suite 102 Newnan\, Georgia 30265
UID:e.468.18719
SEQUENCE:3
DTSTAMP:20260422T130131Z
URL:https://www.newnancowetachamber.org/events/details/ribbon-cutting-percolate-brew-boutique-18719
END:VEVENT

END:VCALENDAR
