BEGIN:VCALENDAR
VERSION:2.0
PRODID:-//ChamberMaster//Event Calendar 2.0//EN
METHOD:PUBLISH
X-PUBLISHED-TTL:P3D
REFRESH-INTERVAL:P3D
CALSCALE:GREGORIAN
BEGIN:VEVENT
DTSTART:20201211T170000Z
DTEND:20201211T180000Z
X-MICROSOFT-CDO-ALLDAYEVENT:FALSE
SUMMARY:Ribbon Cutting - Physical Therapy at Walmart Health
DESCRIPTION:Join us for a ribbon cutting to celebrate the grand opening of Physical Therapy at Walmart Health. Physical Therapy at Walmart Health is a privately owned physical therapy practice whose goal is to bring affordable\, accessible\, specialized physical therapy care to all. Physical therapy is essential to reducing overall medical costs while improving the lives of our patients through the most effective non-pharmacologic intervention. They strive to provide an unmatched customer service experience through providers who are "Called to Care" through empathy and personalized service. Free screens available to all those in attendance and individually sealed refreshments will be served.\n\n \n\n(Located inside the Newnan Walmart\, just inside the pharmacy entrance to the right.)
X-ALT-DESC;FMTTYPE=text/html:<span style="font-size:14px\;"><span style="font-family:tahoma\;">Join us for a ribbon cutting to celebrate the grand opening of Physical Therapy at Walmart Health. Physical Therapy at Walmart Health is a privately owned physical therapy practice whose goal is to bring affordable\, accessible\, specialized physical therapy care to all. Physical therapy is essential to reducing overall medical costs while improving the lives of our patients through the most effective non-pharmacologic intervention. They strive to provide an unmatched customer service experience through providers who are &quot\;Called to Care&quot\; through empathy and personalized service. Free screens available to all those in attendance and individually sealed refreshments will be served.<br />\n&nbsp\;<br />\n(Located inside the Newnan Walmart\, just inside the pharmacy entrance to the right.)</span></span>
LOCATION:Walmart 1025 Hwy 34 E | Newnan
UID:e.468.16857
SEQUENCE:3
DTSTAMP:20260425T191846Z
URL:https://www.newnancowetachamber.org/events/details/ribbon-cutting-physical-therapy-at-walmart-health-16857
END:VEVENT

END:VCALENDAR
