BEGIN:VCALENDAR
VERSION:2.0
PRODID:-//ChamberMaster//Event Calendar 2.0//EN
METHOD:PUBLISH
X-PUBLISHED-TTL:P3D
REFRESH-INTERVAL:P3D
CALSCALE:GREGORIAN
BEGIN:VEVENT
DTSTART:20231026T160000Z
DTEND:20231026T170000Z
X-MICROSOFT-CDO-ALLDAYEVENT:FALSE
SUMMARY:Ribbon Cutting: Piedmont Primary Care Senoia & Urgent Care
DESCRIPTION:Join us as we celebrate the grand opening of Piedmont Primary Care & Urgent Care of Senoia! Piedmont Primary Care of Senoia believes prevention is the best medicine. That's why we specialize in primary care to help you achieve   and maintain   better health. Light refreshments will be served.
X-ALT-DESC;FMTTYPE=text/html:<span style="color: rgb(0\, 0\, 0)\; font-family: Calibri\, Helvetica\, sans-serif\, Helvetica\, EmojiFont\, &quot\;Apple Color Emoji&quot\;\, &quot\;Segoe UI Emoji&quot\;\, NotoColorEmoji\, &quot\;Segoe UI Symbol&quot\;\, &quot\;Android Emoji&quot\;\, EmojiSymbols\; font-size: 16px\;">Join us as we celebrate the grand opening of Piedmont Primary Care &amp\; Urgent Care of Senoia! Piedmont Primary Care of Senoia believes prevention is the best medicine. That&rsquo\;s why we specialize in primary care to help you achieve &ndash\; and maintain &ndash\; better health. Light refreshments will be served.</span>
LOCATION:7900 Wells St. Suite 100 Senoia\, GA 30276
UID:e.468.19835
SEQUENCE:3
DTSTAMP:20260420T020150Z
URL:https://www.newnancowetachamber.org/events/details/ribbon-cutting-piedmont-primary-care-senoia-urgent-care-19835
END:VEVENT

END:VCALENDAR
