BEGIN:VCALENDAR
VERSION:2.0
PRODID:-//ChamberMaster//Event Calendar 2.0//EN
METHOD:PUBLISH
X-PUBLISHED-TTL:P3D
REFRESH-INTERVAL:P3D
CALSCALE:GREGORIAN
BEGIN:VEVENT
DTSTART:20230914T160000Z
DTEND:20230914T170000Z
X-MICROSOFT-CDO-ALLDAYEVENT:FALSE
SUMMARY:Ribbon Cutting: Piedmont Urgent Care Senoia
DESCRIPTION:Join the Newnan-Coweta Chamber for the Ribbon Cutting of Piedmont Urgent Care Senoia!  At Piedmont Urgent Care\, their mission is to help patients feel valued and well-cared. They offer the best in-class urgent care services throughout the Georgia\, starting with certified medical providers who specialize in urgent care medicine\, clean\, modern facilities\, and convenient care options built specifically with our patients in mind. Lunch is provided during the event. Please register!
X-ALT-DESC;FMTTYPE=text/html:<span style="font-size:14px\;"><span style="font-family:tahoma\;">Join the Newnan-Coweta Chamber for the Ribbon Cutting of Piedmont Urgent Care Senoia!&nbsp\;&nbsp\;At Piedmont Urgent Care\, their mission is to help patients feel valued and well-cared. They offer the best in-class&nbsp\;urgent care services&nbsp\;throughout the Georgia\, starting with certified medical providers who specialize in urgent care medicine\, clean\, modern facilities\, and convenient care options built specifically with our patients in mind. Lunch is provided during the event. Please register!</span></span>
LOCATION:7990 Wells Street\, Suite 120 Senoia\, Georgia 30276
UID:e.468.18935
SEQUENCE:3
DTSTAMP:20260420T035440Z
URL:https://www.newnancowetachamber.org/events/details/ribbon-cutting-piedmont-urgent-care-senoia-18935
END:VEVENT

END:VCALENDAR
