BEGIN:VCALENDAR
VERSION:2.0
PRODID:-//ChamberMaster//Event Calendar 2.0//EN
METHOD:PUBLISH
X-PUBLISHED-TTL:P3D
REFRESH-INTERVAL:P3D
CALSCALE:GREGORIAN
BEGIN:VEVENT
DTSTART:20220505T160000Z
DTEND:20220505T170000Z
X-MICROSOFT-CDO-ALLDAYEVENT:FALSE
SUMMARY:Ribbon Cutting: Pool Scouts of Newnan
DESCRIPTION:Join us for the Ribbon Cutting of Pool Scouts of Newnan! Pool Scouts is a pool service and maintenance company that takes out the hassle of caring for your swimming pool. They create and maintain perfect pools\, Scout's honor! During the celebration\, hosted at The Chamber\, Pool Scouts of Newnan is providing lunch and special discounts for attendees. Please register!
X-ALT-DESC;FMTTYPE=text/html:<span style="font-size:14px\;"><font face="tahoma">Join us for the Ribbon Cutting of Pool Scouts of Newnan! Pool Scouts is</font><font face="tahoma"><span style="caret-color: rgb(0\, 0\, 0)\;">&nbsp\;a pool service and maintenance company that takes out the hassle of caring for your swimming pool. They create and&nbsp\;maintain perfect pools\, Scout&#39\;s honor! During the celebration\, hosted at The Chamber\, Pool Scouts of Newnan is providing</span></font><span style="font-family:tahoma\;"><span style="caret-color: rgb(0\, 0\, 0)\;">&nbsp\;lunch and special discounts for attendees. Please register!</span></span></span>
LOCATION:The Chamber 23 Bullsboro Drive New. GA 30263
UID:e.468.18279
SEQUENCE:3
DTSTAMP:20260424T153553Z
URL:https://www.newnancowetachamber.org/events/details/ribbon-cutting-pool-scouts-of-newnan-18279
END:VEVENT

END:VCALENDAR
