BEGIN:VCALENDAR
VERSION:2.0
PRODID:-//ChamberMaster//Event Calendar 2.0//EN
METHOD:PUBLISH
X-PUBLISHED-TTL:P3D
REFRESH-INTERVAL:P3D
CALSCALE:GREGORIAN
BEGIN:VEVENT
DTSTART:20221021T160000Z
DTEND:20221021T170000Z
X-MICROSOFT-CDO-ALLDAYEVENT:FALSE
SUMMARY:Ribbon Cutting: Renee Horton Agency\, LLC American Family Insurance
DESCRIPTION:Join us for the Ribbon Cutting of Renee Horton\, LLC American Family Insurance! Whether you're purchasing a car\, buying a home\, managing an investment property\, starting a small business or leaving behind a legacy\, their American Family Insurance agency is dedicated to inspiring and protecting your dreams. As your agent in Senoia\, GA\, they'll work with you to identify individual needs\, and suggest insurance coverage to protect those dreams. Food\, beverages\, door prizes\, and a pumpkin giveaway all are available during the event! Please register.
X-ALT-DESC;FMTTYPE=text/html:<font face="tahoma"><span style="caret-color: rgb(0\, 0\, 0)\; font-size: 14px\;">Join us for the Ribbon Cutting of Renee Horton\, LLC American Family Insurance! Whether you&#39\;re purchasing a car\, buying a home\, managing an investment property\, starting a small business or leaving behind a legacy\, their American Family Insurance agency is dedicated to inspiring and protecting your dreams. As your agent in Senoia\, GA\, they&#39\;ll work with you to identify individual needs\, and suggest insurance coverage to protect those dreams. Food\, beverages\, door prizes\, and a pumpkin giveaway all are available during the event! Please&nbsp\;register.</span></font>
LOCATION:17 Barnes Street\, Suite 1B Senoia\, Georgia 30276
UID:e.468.18573
SEQUENCE:3
DTSTAMP:20260422T203433Z
URL:https://www.newnancowetachamber.org/events/details/ribbon-cutting-renee-horton-agency-llc-american-family-insurance-18573
END:VEVENT

END:VCALENDAR
