BEGIN:VCALENDAR
VERSION:2.0
PRODID:-//ChamberMaster//Event Calendar 2.0//EN
METHOD:PUBLISH
X-PUBLISHED-TTL:P3D
REFRESH-INTERVAL:P3D
CALSCALE:GREGORIAN
BEGIN:VEVENT
DTSTART:20211130T170000Z
DTEND:20211130T180000Z
X-MICROSOFT-CDO-ALLDAYEVENT:FALSE
SUMMARY:Ribbon Cutting: Sacred Journey Hospice
DESCRIPTION:Join the Ribbon Cutting of Sacred Journey Hospice as they celebrate opening in-patient hospice care for the critically ill. Sacred Journey\, who has mostly provided home hospice care\, can now bring patients to have their symptoms controlled in this new unit here in Coweta County. This in-patient unit also provides respite care for patients as a way to give families a break in caring for their loved one. Food is provided at the event. Please register!
X-ALT-DESC;FMTTYPE=text/html:<font color="#000000"><font face="tahoma"><span style="font-size: 14px\;">Join the Ribbon Cutting of Sacred Journey Hospice as they celebrate&nbsp\;opening in-patient hospice care for the critically ill. Sacred Journey\, who has mostly provided home hospice care\, can now bring patients to have their symptoms controlled in this new unit here in Coweta County. This in-patient unit also provides respite care for patients as a way to give families a break in caring for their loved one. Food is&nbsp\;provided at the event. Please register!</span></font></font>
LOCATION:125 Oak Hill Blvd Newnan\, GA 30265
UID:e.468.17966
SEQUENCE:3
DTSTAMP:20260425T013448Z
URL:https://www.newnancowetachamber.org/events/details/ribbon-cutting-sacred-journey-hospice-17966
END:VEVENT

END:VCALENDAR
