BEGIN:VCALENDAR
VERSION:2.0
PRODID:-//ChamberMaster//Event Calendar 2.0//EN
METHOD:PUBLISH
X-PUBLISHED-TTL:P3D
REFRESH-INTERVAL:P3D
CALSCALE:GREGORIAN
BEGIN:VEVENT
DTSTART:20220429T160000Z
DTEND:20220429T170000Z
X-MICROSOFT-CDO-ALLDAYEVENT:FALSE
SUMMARY:Ribbon Cutting: SELCAT Apprenticeship Training
DESCRIPTION:Join the Newnan-Coweta Chamber for the Ribbon Cutting of SELCAT Apprenticeship Training! SELCAT is a local educational program affiliated with the National Joint Apprenticeship & Training Committee (NJATC) and trains a local workforce of Linemen   at no cost to taxpayers while also providing earn-while-you learn education! Food and beverages are served at the event\, and door prizes donated from Milwaukee Tool are available. Please register!
X-ALT-DESC;FMTTYPE=text/html:<span style="font-size:14px\;"><span style="font-family:tahoma\;">Join the Newnan-Coweta Chamber for the Ribbon Cutting of SELCAT Apprenticeship Training! SELCAT&nbsp\;<span style="caret-color: rgb(85\, 85\, 85)\; text-size-adjust: auto\; background-color: rgb(250\, 250\, 250)\;">is a local educational program affiliated with the National Joint Apprenticeship &amp\; Training Committee (NJATC) and trains a local workforce of Linemen &ndash\; at no cost to taxpayers while also providing earn-while-you learn education!&nbsp\;</span></span></span><span style="font-family: tahoma\; font-size: 14px\; caret-color: rgb(0\, 0\, 0)\;">F</span><font face="tahoma"><span style="caret-color: rgb(0\, 0\, 0)\; font-size: 14px\;">ood and beverages are served at the event\, and door prizes donated from&nbsp\;Milwaukee Tool are available. Please register!</span></font>
LOCATION:99 Newnan South Industrial Drive Newnan\, GA 30263
UID:e.468.18087
SEQUENCE:3
DTSTAMP:20260424T173855Z
URL:https://www.newnancowetachamber.org/events/details/ribbon-cutting-selcat-apprenticeship-training-18087
END:VEVENT

END:VCALENDAR
