BEGIN:VCALENDAR
VERSION:2.0
PRODID:-//ChamberMaster//Event Calendar 2.0//EN
METHOD:PUBLISH
X-PUBLISHED-TTL:P3D
REFRESH-INTERVAL:P3D
CALSCALE:GREGORIAN
BEGIN:VEVENT
DTSTART:20230210T170000Z
DTEND:20230210T180000Z
X-MICROSOFT-CDO-ALLDAYEVENT:FALSE
SUMMARY:Ribbon Cutting: Shop Sapodilla
DESCRIPTION:Join us for a Ribbon Cutting of Shop Sapodilla! Shop Sapodilla is a retail store offering the best of women's fashion - pocketbooks\, wallets\, duffel bags\, crossbody bags\, hats\, scarves\, shawls\, gloves\, select consignment items and other accessories. Shop Sapodilla is passionate about growing to the point where they are able to offer additional employment to the citizens of the community. Attendees can enjoy lunch\, door prizes\, and a giveaway. Please register!
X-ALT-DESC;FMTTYPE=text/html:<span style="font-size:14px\;"><span style="font-family:tahoma\;"><span style="caret-color: rgb(0\, 0\, 0)\;">Join us for a Ribbon Cutting of Shop Sapodilla! Shop Sapodilla is a retail store offering the best of women&#39\;s fashion - pocketbooks\, wallets\, duffel bags\, crossbody bags\, hats\, scarves\, shawls\, gloves\, select consignment items and other accessories. Shop Sapodilla is passionate about growing to the point where they are able to offer additional employment to the citizens of the community. Attendees can enjoy lunch\, door prizes\, and a giveaway. Please register!</span></span></span>
LOCATION:19 A East Broad Street Newnan\, Georgia 30263
UID:e.468.18644
SEQUENCE:3
DTSTAMP:20260422T143515Z
URL:https://www.newnancowetachamber.org/events/details/ribbon-cutting-shop-sapodilla-18644
END:VEVENT

END:VCALENDAR
