BEGIN:VCALENDAR
VERSION:2.0
PRODID:-//ChamberMaster//Event Calendar 2.0//EN
METHOD:PUBLISH
X-PUBLISHED-TTL:P3D
REFRESH-INTERVAL:P3D
CALSCALE:GREGORIAN
BEGIN:VEVENT
DTSTART:20240822T160000Z
DTEND:20240822T170000Z
X-MICROSOFT-CDO-ALLDAYEVENT:FALSE
SUMMARY:Ribbon Cutting: Signarama
DESCRIPTION:Please join the Newnan-Coweta Chamber in celebrating the ribbon cutting of Signarama! Signarama of Newnan is a local veteran owned business that is an active member of an international franchise and has been based in Newnan for 25 years! In 2022\, the store was purchased by new owners that were drawn to the amazing communities in Coweta County & the city of Newnan specifically. That's why they want to celebrate their "2 & 25 Anniversary" with all of their friends! At Signarama\, they pride themselves on being able to help individuals\, businesses & community organizations with all of their signage needs\, whether that be a sign for your building\, vehicle\, parking lot\, yard or event. If you can imagine it\, they can collaborate with you to make it a reality! They will be offering refreshments and prizes.
X-ALT-DESC;FMTTYPE=text/html:Please join the Newnan-Coweta Chamber in celebrating the ribbon cutting of Signarama! Signarama of Newnan is a local veteran owned business that is an active member of an international franchise and has been based in Newnan for 25 years! In 2022\, the store was purchased by new owners that were drawn to the amazing communities in Coweta County &amp\; the city of Newnan specifically. That&#39\;s why they want to celebrate their &quot\;2 &amp\; 25 Anniversary&quot\; with all of their friends! At Signarama\, they pride themselves on being able to help individuals\, businesses &amp\; community organizations with all of their signage needs\, whether that be a sign for your building\, vehicle\, parking lot\, yard or event. If you can imagine it\, they can collaborate with you to make it a reality! They will be offering refreshments and prizes.
LOCATION:1690 GA Hwy. 34 East Newnan\, GA 30265
UID:e.468.20392
SEQUENCE:3
DTSTAMP:20260420T033702Z
URL:https://www.newnancowetachamber.org/events/details/ribbon-cutting-signarama-20392
END:VEVENT

END:VCALENDAR
