BEGIN:VCALENDAR
VERSION:2.0
PRODID:-//ChamberMaster//Event Calendar 2.0//EN
METHOD:PUBLISH
X-PUBLISHED-TTL:P3D
REFRESH-INTERVAL:P3D
CALSCALE:GREGORIAN
BEGIN:VEVENT
DTSTART:20211201T170000Z
DTEND:20211201T180000Z
X-MICROSOFT-CDO-ALLDAYEVENT:FALSE
SUMMARY:Ribbon Cutting: Simply Sweet Skin Aesthetic Wellness
DESCRIPTION:Join us for the Ribbon Cutting celebration of Simply Sweet Skin Aesthetic Wellness! This Hybrid Medspa is on a mission to make clinical aesthetics simple and affordable. They educate their clients on how to age intelligently. Their staff is made up of licensed experts offering results-oriented treatments including: anti aging treatments\, permanent cosmetics\, laser\, Procell Therapies for skin and hair growth stimulation\, and more! Please register!
X-ALT-DESC;FMTTYPE=text/html:<span style="font-size:14px\;"><span style="font-family:tahoma\;"><span style="caret-color: rgb(0\, 0\, 0)\; color: rgb(0\, 0\, 0)\; text-size-adjust: auto\;">Join us for the Ribbon Cutting celebration of Simply Sweet Skin Aesthetic Wellness! This Hybrid Medspa is on a mission to make clinical aesthetics simple and affordable. They educate their clients on how to age intelligently. </span><span style="color: rgb(0\, 0\, 0)\; caret-color: rgb(0\, 0\, 0)\;">Their staff is made up of licensed experts offering results-oriented treatments i</span><span style="caret-color: rgb(0\, 0\, 0)\; color: rgb(0\, 0\, 0)\; text-size-adjust: auto\;">ncluding: anti aging treatments\, permanent cosmetics\, laser\, Procell Therapies for skin and hair growth stimulation\, and more! Please register!</span></span></span>
LOCATION:15 Thomas Grace Annex Lane Suite 100 Sharpsburg\, GA 30277
UID:e.468.17869
SEQUENCE:3
DTSTAMP:20260424T235951Z
URL:https://www.newnancowetachamber.org/events/details/ribbon-cutting-simply-sweet-skin-aesthetic-wellness-17869
END:VEVENT

END:VCALENDAR
