BEGIN:VCALENDAR
VERSION:2.0
PRODID:-//ChamberMaster//Event Calendar 2.0//EN
METHOD:PUBLISH
X-PUBLISHED-TTL:P3D
REFRESH-INTERVAL:P3D
CALSCALE:GREGORIAN
BEGIN:VEVENT
DTSTART:20210303T170000Z
DTEND:20210303T180000Z
X-MICROSOFT-CDO-ALLDAYEVENT:FALSE
SUMMARY:Ribbon Cutting: Sip & Cigar
DESCRIPTION:Join us as we celebrate the opening of Sip & Cigar. A place where you can come and unwind\, relax\, network\, and smoke a cigar!
X-ALT-DESC;FMTTYPE=text/html:Join us as we celebrate the opening of Sip &amp\; Cigar. A place where you can come and unwind\, relax\, network\, and smoke a cigar!&nbsp\;&nbsp\;
LOCATION:Sip & Cigar 8 Bullsboro Dr\, Newnan
UID:e.468.17078
SEQUENCE:3
DTSTAMP:20260425T144445Z
URL:https://www.newnancowetachamber.org/events/details/ribbon-cutting-sip-cigar-17078
END:VEVENT

END:VCALENDAR
