BEGIN:VCALENDAR
VERSION:2.0
PRODID:-//ChamberMaster//Event Calendar 2.0//EN
METHOD:PUBLISH
X-PUBLISHED-TTL:P3D
REFRESH-INTERVAL:P3D
CALSCALE:GREGORIAN
BEGIN:VEVENT
DTSTART:20230504T160000Z
DTEND:20230504T170000Z
X-MICROSOFT-CDO-ALLDAYEVENT:FALSE
SUMMARY:Ribbon Cutting: Smoothie King
DESCRIPTION:Please join us for the Ribbon Cutting of Smoothie King! Smoothie King believes each day is filled with promise and possibility and that it's their purpose is to help you get the most out of it. That's why each ingredient is chosen carefully\, and every one of their blends is crafted masterfully. In addition to the May 4th Ribbon Cutting\, they are hosting a Grand Opening Event on Saturday\, May 6th from 10AM-3PM. The first 25 guests will receive a free smoothie (with app sign up) at the event. Door prizes and wheel promotion gifts are also available! Please register.
X-ALT-DESC;FMTTYPE=text/html:<span style="font-size:14px\;"><span style="font-family:tahoma\;"><span style="caret-color: rgb(0\, 0\, 0)\; text-size-adjust: auto\;">Please join us for the Ribbon Cutting of Smoothie King! Smoothie King believes each day is filled with promise and possibility and that it&#39\;s their purpose is to help you get the most out of it. That&rsquo\;s why each ingredient is chosen carefully\, and every one of their blends is crafted masterfully. In addition to the May 4th Ribbon Cutting\, they are hosting a&nbsp\;</span><span style="caret-color: rgb(0\, 0\, 0)\; text-size-adjust: auto\;">Grand Opening Event on Saturday\, May 6th from 10AM-3PM. The first 25 guests will receive a free smoothie (with app sign up) at the event. Door prizes and wheel promotion gifts are also available! Please register.&nbsp\;</span></span></span>
LOCATION:311 Bullsboro Drive\, Suite 170 Newnan\, Georgia 30263
UID:e.468.18850
SEQUENCE:3
DTSTAMP:20260422T104455Z
URL:https://www.newnancowetachamber.org/events/details/ribbon-cutting-smoothie-king-18850
END:VEVENT

END:VCALENDAR
