BEGIN:VCALENDAR
VERSION:2.0
PRODID:-//ChamberMaster//Event Calendar 2.0//EN
METHOD:PUBLISH
X-PUBLISHED-TTL:P3D
REFRESH-INTERVAL:P3D
CALSCALE:GREGORIAN
BEGIN:VEVENT
DTSTART:20240826T200000Z
DTEND:20240826T210000Z
X-MICROSOFT-CDO-ALLDAYEVENT:FALSE
SUMMARY:Ribbon Cutting/Sneak Preview: Fazoli's
DESCRIPTION:Join the Newnan-Coweta Chamber in celebrating the ribbon cutting/sneak preview of Coweta's newest restaurant! Fazoli's starts with fresh\, quality ingredients\, making everything to order. Famous for their signature garlic breadsticks-fresh out of the oven. They serve freshly prepared signature pasta\, pizza\, salads\, and oven-baked subs. After the ribbon cutting at 4:00\, you're invited to a sneak preview for you to enjoy a free adult entree on them!\n\n\n\nNote: Later time slots available for you and your guest's complimentary entrees\, so if you will be arriving AFTER the ribbon cutting\, please register by using the QR code provided below and sign up online for your time slot.
X-ALT-DESC;FMTTYPE=text/html:Join the Newnan-Coweta Chamber in celebrating the ribbon cutting/sneak preview of Coweta&#39\;s newest restaurant! Fazoli&#39\;s starts with fresh\, quality ingredients\, making everything to order. Famous for their signature garlic breadsticks-fresh out of the oven. They serve freshly prepared signature pasta\, pizza\, salads\, and oven-baked subs. After the ribbon cutting at 4:00\, you&#39\;re invited to a sneak preview for you to enjoy a free adult entree on them!<br />\n<br />\nNote: Later time slots available for you and your guest&#39\;s complimentary entrees\, so if you will be arriving AFTER the ribbon cutting\, please register by using the QR code provided below and sign up online for your time slot.
LOCATION:207 Bullsboro Drive Newnan\, GA 30263
UID:e.468.20558
SEQUENCE:3
DTSTAMP:20260420T033918Z
URL:https://www.newnancowetachamber.org/events/details/ribbon-cutting-sneak-preview-fazoli-s-20558
END:VEVENT

END:VCALENDAR
