BEGIN:VCALENDAR
VERSION:2.0
PRODID:-//ChamberMaster//Event Calendar 2.0//EN
METHOD:PUBLISH
X-PUBLISHED-TTL:P3D
REFRESH-INTERVAL:P3D
CALSCALE:GREGORIAN
BEGIN:VEVENT
DTSTART:20240730T160000Z
DTEND:20240730T170000Z
X-MICROSOFT-CDO-ALLDAYEVENT:FALSE
SUMMARY:Ribbon Cutting: T.R.L. Upscale Transportation
DESCRIPTION:Please join the Newnan-Coweta Chamber in celebrating the ribbon cutting of T.R.L. Upscale Transportation! T.R.L. Upscale Transportation\, proudly veteran owned\, is dedicated to revolutionizing travel with a blend of luxury\, efficiency\, and exceptional service. Their mission is to provide passengers with an elevated transportation experience. They aim to create lasting impressions every trip. CHARTERED SERVICES\, Corporate Services\, Airport Transfer\, Special Occasions\, Wine Tours\, Masters Travel Packages\, Concerts/Sporting Events\, Girls/Guys Night Out! Lunch will be served and they are giving away a door prize valued at over $500. Experience our luxury Mercedes Sprinter chartered service for you and 5 of your VIP pals. Duration 4 hours up to 6 passengers\, 30 days to choose night out date.
X-ALT-DESC;FMTTYPE=text/html:Please join the Newnan-Coweta Chamber in celebrating the ribbon cutting of T.R.L. Upscale Transportation!&nbsp\;T.R.L. Upscale Transportation\, proudly veteran owned\, is dedicated to revolutionizing travel with a blend of luxury\, efficiency\, and exceptional service. Their mission is to provide passengers with an elevated transportation experience. They aim to create lasting impressions every trip. CHARTERED SERVICES\, Corporate Services\, Airport Transfer\, Special Occasions\, Wine Tours\, Masters Travel Packages\, Concerts/Sporting Events\, Girls/Guys Night Out! Lunch will be served and they are giving away a door prize valued at over $500. Experience our luxury Mercedes Sprinter chartered service for you and 5 of your VIP pals. Duration 4 hours up to 6 passengers\, 30 days to choose night out date.
LOCATION:Newnan-Coweta Chamber 23 Bullsboro Drive Newnan\, GA 30263
UID:e.468.20418
SEQUENCE:3
DTSTAMP:20260420T015704Z
URL:https://www.newnancowetachamber.org/events/details/ribbon-cutting-t-r-l-upscale-transportation-20418
END:VEVENT

END:VCALENDAR
