BEGIN:VCALENDAR
VERSION:2.0
PRODID:-//ChamberMaster//Event Calendar 2.0//EN
METHOD:PUBLISH
X-PUBLISHED-TTL:P3D
REFRESH-INTERVAL:P3D
CALSCALE:GREGORIAN
BEGIN:VEVENT
DTSTART:20240806T160000Z
DTEND:20240806T170000Z
X-MICROSOFT-CDO-ALLDAYEVENT:FALSE
SUMMARY:Ribbon Cutting: The Chics' Cave
DESCRIPTION:Please join the Newnan-Coweta Chamber in a ribbon cutting celebration at The Chics' Cave! The Chics' Cave is a women's clothing and accessory boutique. They carry fashionable items from sizes Small-3X. If you're looking for chic\, fashionable wear\, please stop by The Cave. Food\, beverages\, door prizes and discounts.
X-ALT-DESC;FMTTYPE=text/html:Please join the Newnan-Coweta Chamber in a ribbon cutting celebration at The Chics&#39\; Cave!&nbsp\;The Chics&#39\; Cave is a women&rsquo\;s clothing and accessory boutique. They carry fashionable items from sizes Small-3X. If you&rsquo\;re looking for chic\, fashionable wear\, please stop by The Cave.&nbsp\;Food\, beverages\, door prizes and discounts.
LOCATION:284 Bullsboro Drive\, Suite A Newnan\, GA 30263
UID:e.468.20465
SEQUENCE:3
DTSTAMP:20260420T034245Z
URL:https://www.newnancowetachamber.org/events/details/ribbon-cutting-the-chics-cave-20465
END:VEVENT

END:VCALENDAR
