BEGIN:VCALENDAR
VERSION:2.0
PRODID:-//ChamberMaster//Event Calendar 2.0//EN
METHOD:PUBLISH
X-PUBLISHED-TTL:P3D
REFRESH-INTERVAL:P3D
CALSCALE:GREGORIAN
BEGIN:VEVENT
DTSTART:20260206T170000Z
DTEND:20260206T180000Z
X-MICROSOFT-CDO-ALLDAYEVENT:FALSE
SUMMARY:Ribbon Cutting: The Little Gym of Newnan
DESCRIPTION:Please join the Newnan-Coweta Chamber in celebrating the ribbon cutting of The Little Gym of Newnan. For children ages 4 months to 12 years (and their parents)\, The Little Gym gymnastics programs help children learn and grow through movement and imaginative play. Their environment is fun\, but their purpose is serious. That's why we embrace a proprietary philosophy called Three-Dimensional Learning\, in which physical activity is a conduit for nurturing your whole child. The Three-Dimensional Learning approach to skill development means that every class we offer fosters growth in three holistic dimensions Get Moving\, Brain Boost\, and Citizen Kid. Lunch will be served and Discounted Membership Giveaway.
X-ALT-DESC;FMTTYPE=text/html:Please join the Newnan-Coweta Chamber in celebrating the ribbon cutting of The Little Gym of Newnan.&nbsp\;For children ages 4 months to 12 years (and their parents)\, The Little Gym gymnastics programs help children learn and grow through movement and imaginative play. Their environment is fun\, but their purpose is serious. That&rsquo\;s why we embrace a proprietary philosophy called Three-Dimensional Learning\, in which physical activity is a conduit for nurturing your whole child. The Three-Dimensional Learning approach to skill development means that every class we offer fosters growth in three holistic dimensions&mdash\;Get Moving\, Brain Boost\, and Citizen Kid.&nbsp\;Lunch will be served and Discounted Membership Giveaway.
LOCATION:358 Newnan Crossing Bypass Suite D Newnan\, GA 30265
UID:e.468.21550
SEQUENCE:3
DTSTAMP:20260422T171240Z
URL:https://www.newnancowetachamber.org/events/details/ribbon-cutting-the-little-gym-of-newnan-21550
END:VEVENT

END:VCALENDAR
