BEGIN:VCALENDAR
VERSION:2.0
PRODID:-//ChamberMaster//Event Calendar 2.0//EN
METHOD:PUBLISH
X-PUBLISHED-TTL:P3D
REFRESH-INTERVAL:P3D
CALSCALE:GREGORIAN
BEGIN:VEVENT
DTSTART:20220427T160000Z
DTEND:20220427T170000Z
X-MICROSOFT-CDO-ALLDAYEVENT:FALSE
SUMMARY:Ribbon Cutting: The Original Hot Dog Factory/Spice Wing
DESCRIPTION:Join the Newnan-Coweta Chamber for the Ribbon Cutting of The Original Hot Dog Factory/Spice Wing! Owned by a brother and sister duo\, The Original Hot Dog Factory serves 18 Different styles of hot dogs including Beef\, Chicken\, Polish\, Bratwurst\, Veggie. They are providing tastings of all their hot dogs and wings during the event. Please register!
X-ALT-DESC;FMTTYPE=text/html:<span style="font-size:14px\;"><span style="font-family:tahoma\;"><span style="caret-color: rgb(0\, 0\, 0)\; color: rgb(0\, 0\, 0)\;">Join the Newnan-Coweta Chamber for the Ribbon Cutting of The Original Hot Dog Factory/Spice Wing! Owned by a&nbsp\;brother and sister duo\, The Original Hot Dog Factory serves 18 Different styles of hot dogs including Beef\, Chicken\, Polish\, Bratwurst\, Veggie. They are providing tastings of all their hot dogs and wings during the event. Please register!</span></span></span>
LOCATION:214 Bullsboro Drive Newnan\, GA 30263
UID:e.468.18374
SEQUENCE:3
DTSTAMP:20260424T174342Z
URL:https://www.newnancowetachamber.org/events/details/ribbon-cutting-the-original-hot-dog-factory-spice-wing-18374
END:VEVENT

END:VCALENDAR
