BEGIN:VCALENDAR
VERSION:2.0
PRODID:-//ChamberMaster//Event Calendar 2.0//EN
METHOD:PUBLISH
X-PUBLISHED-TTL:P3D
REFRESH-INTERVAL:P3D
CALSCALE:GREGORIAN
BEGIN:VEVENT
DTSTART:20220519T200000Z
DTEND:20220519T210000Z
X-MICROSOFT-CDO-ALLDAYEVENT:FALSE
SUMMARY:Ribbon Cutting: The Southern Credit Union
DESCRIPTION:Join us for the Ribbon Cutting of The Southern Credit Union! The Southern Credit Union is a federally insured\, not-for-profit financial cooperative with headquarters in Fayette County\, Georgia. Profits are returned to the members in the form of higher dividend rates on savings\, lower rates on loans\, and in some cases\, low or no fees on various services and products. The Southern is owned by its members and governed by a member-elected board of directors. They serve members with pride\, experience\, professionalism and personal attention. Food\, beverages\, door prizes and take-home gifts are provided at the celebration. Please register!
X-ALT-DESC;FMTTYPE=text/html:<span style="font-size:14px\;"><span style="font-family:tahoma\;"><span style="caret-color: rgb(0\, 0\, 0)\; color: rgb(0\, 0\, 0)\;">Join us for the Ribbon Cutting of The Southern Credit Union! The Southern Credit Union is a federally insured\, not-for-profit financial cooperative with headquarters in Fayette County\, Georgia. Profits are returned to the members in the form of higher dividend rates on savings\, lower rates on loans\, and in some cases\, low or no fees on various services and products. The Southern is owned by its members and governed by a member-elected board of directors. They serve members with pride\, experience\, professionalism and personal attention. Food\, beverages\, door prizes and take-home gifts are provided at the celebration. Please register!</span></span></span>
LOCATION:1790 Hwy 154 Sharpsburg\, GA 30277
UID:e.468.18369
SEQUENCE:3
DTSTAMP:20260424T153413Z
URL:https://www.newnancowetachamber.org/events/details/ribbon-cutting-the-southern-credit-union-18369
END:VEVENT

END:VCALENDAR
