BEGIN:VCALENDAR
VERSION:2.0
PRODID:-//ChamberMaster//Event Calendar 2.0//EN
METHOD:PUBLISH
X-PUBLISHED-TTL:P3D
REFRESH-INTERVAL:P3D
CALSCALE:GREGORIAN
BEGIN:VEVENT
DTSTART:20231206T210000Z
DTEND:20231206T220000Z
X-MICROSOFT-CDO-ALLDAYEVENT:FALSE
SUMMARY:Ribbon Cutting: The Tipsy Gypsy
DESCRIPTION:Join the Newnan-Coweta Chamber for the Ribbon Cutting celebrating The Tipsy Gypsy! The Tipsy Gypsy\, LLC is a luxury horse trailer transformed into a trendy\, unique mobile bar for event rentals\, proudly serving both the surrounding areas of Newnan\, Georgia and Birmingham\, Alabama. Our mission is to add a memorable and customizable beverage option to your event with planning and service professionalism to eliminate the stress of adding those perfect touches for your guests\, allowing you to be present in the moment.
X-ALT-DESC;FMTTYPE=text/html:<span style="font-size:14px\;"><span style="font-family:arial\;">Join the Newnan-Coweta Chamber for the Ribbon Cutting celebrating The Tipsy Gypsy! The Tipsy Gypsy\, LLC is a luxury horse trailer transformed into a trendy\, unique mobile bar for event rentals\, proudly serving both the surrounding areas of Newnan\, Georgia and Birmingham\, Alabama. Our mission is to add a memorable and customizable beverage option to your event with planning and service professionalism to eliminate the stress of adding those perfect touches for your guests\, allowing you to be present in the moment.</span></span>
LOCATION:Newnan-Coweta Chamber 23 Bullsboro Drive Newnan\, GA 30263
UID:e.468.19129
SEQUENCE:3
DTSTAMP:20260419T224446Z
URL:https://www.newnancowetachamber.org/events/details/ribbon-cutting-the-tipsy-gypsy-19129
END:VEVENT

END:VCALENDAR
