BEGIN:VCALENDAR
VERSION:2.0
PRODID:-//ChamberMaster//Event Calendar 2.0//EN
METHOD:PUBLISH
X-PUBLISHED-TTL:P3D
REFRESH-INTERVAL:P3D
CALSCALE:GREGORIAN
BEGIN:VEVENT
DTSTART:20201221T170000Z
DTEND:20201221T180000Z
X-MICROSOFT-CDO-ALLDAYEVENT:FALSE
SUMMARY:Ribbon Cutting - The Water Tree Newnan
DESCRIPTION:Join us in celebrating the grand opening of The Water Tree Newnan! Water Tree Newnan offers fresh flowing alkaline antioxidant water with the level of pH 10.5\, pH 9.5\, and pH 7.5. Customers can bring their own jugs and refill the jugs at 8 different faucets. They also sell containers of all sizes. Ribbon Cutting attendees will receive complimentary snacks and water and a 25% discount on faucet water.
X-ALT-DESC;FMTTYPE=text/html:<span style="font-size:14px\;"><span style="font-family:tahoma\;">Join us in celebrating the grand opening of The Water Tree Newnan! Water Tree Newnan offers fresh flowing alkaline antioxidant water with the level of pH 10.5\, pH 9.5\, and pH 7.5. Customers can bring their own jugs and refill the jugs at 8 different faucets. They also sell containers of all sizes. Ribbon Cutting attendees will receive complimentary snacks and water and a 25% discount on faucet water.</span></span>
LOCATION:802 Lower Fayetteville Rd.\, Suite D | Newnan
UID:e.468.16858
SEQUENCE:3
DTSTAMP:20260425T191656Z
URL:https://www.newnancowetachamber.org/events/details/ribbon-cutting-the-water-tree-newnan-16858
END:VEVENT

END:VCALENDAR
