BEGIN:VCALENDAR
VERSION:2.0
PRODID:-//ChamberMaster//Event Calendar 2.0//EN
METHOD:PUBLISH
X-PUBLISHED-TTL:P3D
REFRESH-INTERVAL:P3D
CALSCALE:GREGORIAN
BEGIN:VEVENT
DTSTART:20220419T160000Z
DTEND:20220419T170000Z
X-MICROSOFT-CDO-ALLDAYEVENT:FALSE
SUMMARY:Ribbon Cutting: Thick Ash Cigar
DESCRIPTION:Join us for the Ribbon Cutting celebration of Thick Ash Cigar! Thick Ash offers a lounge atmosphere that caters to the needs of the cigar enthusiasts in Coweta. You can purchase some of the finest premium cigars\, relax\, decompress and socialize while enjoying your favorite stick! Food\, drinks\, and giveaways are available throughout the event. Please register.
X-ALT-DESC;FMTTYPE=text/html:<font color="#000000" face="tahoma"><span style="caret-color: rgb(0\, 0\, 0)\; font-size: 14px\;">Join us for the Ribbon Cutting celebration of Thick Ash Cigar! Thick Ash offers a lounge atmosphere that caters to the needs of the cigar enthusiasts in Coweta. You can purchase some of the finest premium cigars\, relax\, decompress and socialize while enjoying your favorite stick! Food\, drinks\, and&nbsp\;giveaways are available throughout the event. Please register.&nbsp\;</span></font>
LOCATION:1690 Highway 34 E\, Suite G Newnan\, GA 30265
UID:e.468.18278
SEQUENCE:3
DTSTAMP:20260424T173856Z
URL:https://www.newnancowetachamber.org/events/details/ribbon-cutting-thick-ash-cigar-18278
END:VEVENT

END:VCALENDAR
