BEGIN:VCALENDAR
VERSION:2.0
PRODID:-//ChamberMaster//Event Calendar 2.0//EN
METHOD:PUBLISH
X-PUBLISHED-TTL:P3D
REFRESH-INTERVAL:P3D
CALSCALE:GREGORIAN
BEGIN:VEVENT
DTSTART:20221006T160000Z
DTEND:20221006T170000Z
X-MICROSOFT-CDO-ALLDAYEVENT:FALSE
SUMMARY:Ribbon Cutting: Treasures Lost & Found
DESCRIPTION:Join us as we celebrate the grand re-opening of Treasures Lost & Found! Treasures wants everyone to enjoy its unique vintage collectibles and decor. Their store is pleased to offer layaway\, shipping\, and delivery options. Come check out their new\, bigger space! Please register.
X-ALT-DESC;FMTTYPE=text/html:<span style="font-size:14px\;"><span style="font-family:tahoma\;"><span style="caret-color: rgb(94\, 94\, 94)\;">Join us as we celebrate the grand re-opening of Treasures Lost &amp\; Found! Treasures wants everyone to enjoy its unique vintage collectibles and decor. Their store is pleased to offer layaway\, shipping\, and delivery options. Come check out their new\, bigger space! Please register.&nbsp\;</span></span></span>
LOCATION:2981 Sharpsburg McCollum Road Newnan\, Georgia 30265
UID:e.468.18558
SEQUENCE:3
DTSTAMP:20260422T203020Z
URL:https://www.newnancowetachamber.org/events/details/ribbon-cutting-treasures-lost-found-18558
END:VEVENT

END:VCALENDAR
