BEGIN:VCALENDAR
VERSION:2.0
PRODID:-//ChamberMaster//Event Calendar 2.0//EN
METHOD:PUBLISH
X-PUBLISHED-TTL:P3D
REFRESH-INTERVAL:P3D
CALSCALE:GREGORIAN
BEGIN:VEVENT
DTSTART:20240806T160000Z
DTEND:20240806T170000Z
X-MICROSOFT-CDO-ALLDAYEVENT:FALSE
SUMMARY:Ribbon Cutting: Trendy Transformations Salon
DESCRIPTION:Please join the Newnan-Coweta Chamber in celebrating a ribbon cutting at Trendy Transformations Salon! Trendy Transformations Salon is an upscale hair salon specializing in healthy hair care\, trendy cuts and styles\, lots\, braids\, color\, sew-ins\, quick weaves\, relaxers & silk press. Light food and beverages will be served.
X-ALT-DESC;FMTTYPE=text/html:Please join the Newnan-Coweta Chamber in celebrating a ribbon cutting at Trendy Transformations Salon!&nbsp\;Trendy Transformations Salon is an upscale hair salon specializing in healthy hair care\, trendy cuts and styles\, lots\, braids\, color\, sew-ins\, quick weaves\, relaxers &amp\; silk press.&nbsp\;Light food and beverages will be served.
LOCATION:276 Bullsboro Drive\, Suite A Newnan\, GA 30263
UID:e.468.20464
SEQUENCE:3
DTSTAMP:20260420T034318Z
URL:https://www.newnancowetachamber.org/events/details/ribbon-cutting-trendy-transformations-salon-20464
END:VEVENT

END:VCALENDAR
