BEGIN:VCALENDAR
VERSION:2.0
PRODID:-//ChamberMaster//Event Calendar 2.0//EN
METHOD:PUBLISH
X-PUBLISHED-TTL:P3D
REFRESH-INTERVAL:P3D
CALSCALE:GREGORIAN
BEGIN:VEVENT
DTSTART:20230727T160000Z
DTEND:20230727T170000Z
X-MICROSOFT-CDO-ALLDAYEVENT:FALSE
SUMMARY:Ribbon Cutting: Truffles Vein Specialists
DESCRIPTION:Join us for the Ribbon Cutting of Truffles Vein Specialists! Truffles Vein Specialists treat vein disease which includes symptoms such as varicose veins\, spider veins\, heavy tired legs\, aching legs\, itching burning or cramping\, restless legs\, swelling\, and more. They also have highly experienced vascular sonographers on staff to diagnose and perform vascular testing. Lunch is provided during the event and attendees have the chance to win door prizes. Please register!
X-ALT-DESC;FMTTYPE=text/html:<span style="font-size:14px\;"><span style="font-family:tahoma\;">Join us for the Ribbon Cutting of Truffles Vein Specialists!&nbsp\;Truffles Vein Specialists&nbsp\;<span style="caret-color: rgb(0\, 0\, 0)\; text-size-adjust: auto\;">treat vein disease which includes symptoms such as varicose veins\, spider veins\, heavy tired legs\, aching legs\, itching burning or cramping\, restless legs\, swelling\, and more. They also have highly experienced vascular sonographers on staff to diagnose and perform vascular testing. Lunch is provided during the event and attendees have the chance to win door prizes. Please register!</span></span></span>
LOCATION:8 East Court Square Newnan\, Georgia 30263
UID:e.468.18920
SEQUENCE:3
DTSTAMP:20260420T070944Z
URL:https://www.newnancowetachamber.org/events/details/ribbon-cutting-truffles-vein-specialists-18920
END:VEVENT

END:VCALENDAR
