BEGIN:VCALENDAR
VERSION:2.0
PRODID:-//ChamberMaster//Event Calendar 2.0//EN
METHOD:PUBLISH
X-PUBLISHED-TTL:P3D
REFRESH-INTERVAL:P3D
CALSCALE:GREGORIAN
BEGIN:VEVENT
DTSTART:20230823T160000Z
DTEND:20230823T170000Z
X-MICROSOFT-CDO-ALLDAYEVENT:FALSE
SUMMARY:Ribbon Cutting: UCare WeCare Family Clinic
DESCRIPTION:Join the Newnan-Coweta Chamber for the Ribbon Cutting of UCare WeCare Family Clinic! UCare WeCare is a primary medical office designed with each individual in mind. They provide care to variety of patients dealing with acute illnesses\, chronic illnesses\, preventative care\, school physicals\, sport physicals\, weight loss and much more. Lunch is provided at the event. Please register!
X-ALT-DESC;FMTTYPE=text/html:<span style="font-size:14px\;"><span style="font-family:tahoma\;">Join the Newnan-Coweta Chamber for the Ribbon Cutting of UCare WeCare Family Clinic! UCare WeCare is a p<span style="caret-color: rgb(0\, 0\, 0)\; text-size-adjust: auto\;">rimary medical office designed with each individual in mind. They provide care to variety of patients dealing with acute illnesses\, chronic illnesses\, preventative care\, school physicals\, sport physicals\, weight loss and much more. Lunch is provided at the event. Please register!</span></span></span>
LOCATION:2005 Highway 16 West\, Suite 101 Newnan\, Georgia 30263
UID:e.468.18937
SEQUENCE:3
DTSTAMP:20260420T052200Z
URL:https://www.newnancowetachamber.org/events/details/ribbon-cutting-ucare-wecare-family-clinic-18937
END:VEVENT

END:VCALENDAR
