BEGIN:VCALENDAR
VERSION:2.0
PRODID:-//ChamberMaster//Event Calendar 2.0//EN
METHOD:PUBLISH
X-PUBLISHED-TTL:P3D
REFRESH-INTERVAL:P3D
CALSCALE:GREGORIAN
BEGIN:VEVENT
DTSTART:20220228T170000Z
DTEND:20220228T180000Z
X-MICROSOFT-CDO-ALLDAYEVENT:FALSE
SUMMARY:Ribbon Cutting: UPS Store #7452 Senoia
DESCRIPTION:Join us for the Ribbon Cutting of Senoia's new UPS Store! In addition to shipping The UPS Store provides other services such as mailboxes\, custom printing\, copying\, shredding\, notarizing\, faxing\, returning\, fingerprinting\, passport photos\, and more. Boxed lunches\, beverages\, and cookies by Wendy's Cookie Studio are served at the event\, and the store is hosting giveaways! Don't miss out.
X-ALT-DESC;FMTTYPE=text/html:<font color="#000000" face="tahoma"><span style="caret-color: rgb(0\, 0\, 0)\; font-size: 14px\;">Join us for the Ribbon Cutting of Senoia&#39\;s new UPS Store! In addition to shipping The UPS Store provides other&nbsp\;services such as mailboxes\, custom printing\, copying\, shredding\, notarizing\, faxing\, returning\, fingerprinting\, passport photos\, and more. Boxed lunches\, beverages\, and cookies by Wendy&#39\;s Cookie Studio are served at the event\, and the store is hosting giveaways! Don&#39\;t miss out.&nbsp\;</span></font>
LOCATION:8090 Wells Street | Suite 2C Senoia\, GA 30276
UID:e.468.18241
SEQUENCE:3
DTSTAMP:20260424T204318Z
URL:https://www.newnancowetachamber.org/events/details/ribbon-cutting-ups-store-7452-senoia-18241
END:VEVENT

END:VCALENDAR
