BEGIN:VCALENDAR
VERSION:2.0
PRODID:-//ChamberMaster//Event Calendar 2.0//EN
METHOD:PUBLISH
X-PUBLISHED-TTL:P3D
REFRESH-INTERVAL:P3D
CALSCALE:GREGORIAN
BEGIN:VEVENT
DTSTART:20230223T170000Z
DTEND:20230223T180000Z
X-MICROSOFT-CDO-ALLDAYEVENT:FALSE
SUMMARY:Ribbon Cutting: Walmart Health
DESCRIPTION:Join us for the Ribbon Cutting of Walmart Health! Walmart Health offers the highest level of care from qualified physicians\, nurse practitioners\, dentists\, optometrists & more\, all with or without insurance. A variety of care services in one convenient location: Medical\, Hearing\, Dental\, Vision and Pharmacy. During the event\, attendees can enjoy food truck eats\, door prizes and giveaways\, and facility tours! Please register.
X-ALT-DESC;FMTTYPE=text/html:<font face="tahoma"><span style="caret-color: rgb(0\, 0\, 0)\; font-size: 14px\;">Join us for the Ribbon Cutting of Walmart Health! Walmart Health offers the highest level of care from qualified physicians\, nurse practitioners\, dentists\, optometrists &amp\; more\, all with or without insurance. A variety of care services in one convenient location: Medical\, Hearing\, Dental\, Vision and Pharmacy. During the event\, attendees can enjoy food truck eats\, door prizes and giveaways\, and&nbsp\;facility tours! Please&nbsp\;register.&nbsp\;</span></font>
LOCATION:1025 Bullsboro Drive Newnan\, Georgia 30265
UID:e.468.18668
SEQUENCE:3
DTSTAMP:20260422T143549Z
URL:https://www.newnancowetachamber.org/events/details/ribbon-cutting-walmart-health-18668
END:VEVENT

END:VCALENDAR
