BEGIN:VCALENDAR
VERSION:2.0
PRODID:-//ChamberMaster//Event Calendar 2.0//EN
METHOD:PUBLISH
X-PUBLISHED-TTL:P3D
REFRESH-INTERVAL:P3D
CALSCALE:GREGORIAN
BEGIN:VEVENT
DTSTART:20210525T160000Z
DTEND:20210525T170000Z
X-MICROSOFT-CDO-ALLDAYEVENT:FALSE
SUMMARY:Ribbon Cutting: Watercrest Senior Living
DESCRIPTION:Please join us for the ribbon cutting of Watercrest Senior Living! At Watercrest Newnan\, our delivery of care is as unique as our resort style service. You'll discover outstanding caregivers and extraordinary care\, tailored to your preferences. Indulge in all your favorites from our own private label Watercrest wines\, to beer and brats\, to fresh locally grown organic fare served to your liking. Cultural programs\, interesting activities and extraordinary outings are simply a part of everyday life. Replace uncertainty\, worries and fears for an engaging lifestyle filled with outstanding dining\, unsurpassed personal care\, and a concierge who anticipates your every need and provides a solution for every concern. \n\n\n\nStay after the ceremony for a lunch prepared by Watercrest Newnan's chef!
X-ALT-DESC;FMTTYPE=text/html:Please join us for the ribbon cutting of Watercrest Senior Living! At Watercrest Newnan\, our delivery of care is as unique as our resort style service. You&rsquo\;ll discover outstanding caregivers and extraordinary care\, tailored to your preferences. Indulge in all your favorites from our own private label Watercrest wines\, to beer and brats\, to fresh locally grown organic fare served to your liking. Cultural programs\, interesting activities and extraordinary outings are simply a part of everyday life. Replace uncertainty\, worries and fears for an engaging lifestyle filled with outstanding dining\, unsurpassed personal care\, and a concierge who anticipates your every need and provides a solution for every concern.&nbsp\;<br />\n<br />\nStay after the ceremony for a lunch prepared by Watercrest Newnan&#39\;s chef!
LOCATION:Watercrest Senior Living 285 Summerlin Blvd. | Newnan
UID:e.468.17429
SEQUENCE:3
DTSTAMP:20260425T112902Z
URL:https://www.newnancowetachamber.org/events/details/ribbon-cutting-watercrest-senior-living-17429
END:VEVENT

END:VCALENDAR
