BEGIN:VCALENDAR
VERSION:2.0
PRODID:-//ChamberMaster//Event Calendar 2.0//EN
METHOD:PUBLISH
X-PUBLISHED-TTL:P3D
REFRESH-INTERVAL:P3D
CALSCALE:GREGORIAN
BEGIN:VEVENT
DTSTART:20230815T160000Z
DTEND:20230815T170000Z
X-MICROSOFT-CDO-ALLDAYEVENT:FALSE
SUMMARY:Ribbon Cutting: West Georgia Domestic Violence Shelter
DESCRIPTION:Join us for the Ribbon Cutting of West Georgia Domestic Violence Shelter! West Georgia Domestic Violence Shelter strives to serve survivors of domestic violence and their dependents throughout their service areas of Carroll\, Coweta\, Haralson\, Heard and Meriwether Counties. Their mission to provide safe shelter\, supportive services\, legal advocacy and necessities to survivors of domestic violence at no cost and free of any discrimination or biases to empower each person to live a safe\, self-sufficient lifestyle\, free from the detrimental effects of domestic violence. The event takes place at The Chamber office and lunch and door prizes are available for attendees! Please register.
X-ALT-DESC;FMTTYPE=text/html:<span style="font-size:14px\;"><span style="font-family:tahoma\;"><span style="caret-color: rgb(33\, 33\, 33)\; text-align: justify\; text-size-adjust: auto\;">Join us for the Ribbon Cutting of West Georgia Domestic Violence Shelter! West Georgia Domestic Violence Shelter strives to serve survivors of domestic violence and their dependents throughout their service areas of Carroll\, Coweta\, Haralson\, Heard and Meriwether Counties. Their mission to provide safe shelter\, supportive services\, legal advocacy and necessities to survivors of domestic violence at no cost and free of any discrimination or biases to empower each person to live a safe\, self-sufficient lifestyle\, free from the detrimental effects of domestic violence. The event takes place at The Chamber office and lunch and door prizes are available for attendees! Please register.&nbsp\;</span></span></span>
LOCATION:The Chamber 23 Bullsboro Drive
UID:e.468.18885
SEQUENCE:3
DTSTAMP:20260420T052009Z
URL:https://www.newnancowetachamber.org/events/details/ribbon-cutting-west-georgia-domestic-violence-shelter-18885
END:VEVENT

END:VCALENDAR
