BEGIN:VCALENDAR
VERSION:2.0
PRODID:-//ChamberMaster//Event Calendar 2.0//EN
METHOD:PUBLISH
X-PUBLISHED-TTL:P3D
REFRESH-INTERVAL:P3D
CALSCALE:GREGORIAN
BEGIN:VEVENT
DTSTART:20220412T160000Z
DTEND:20220412T170000Z
X-MICROSOFT-CDO-ALLDAYEVENT:FALSE
SUMMARY:Ribbon Cutting: Westhill of Newnan Crossing Senior Living
DESCRIPTION:Join us for the Ribbon Cutting of Westhill Newnan Crossing Senior Living! Westhill Newnan Crossing is a state-of-the-art Assisted Living & Memory Care community in Newnan\, Georgia. Their comfortable\, well-appointed apartments offer a variety of amenities and the peace of mind that comes from knowing their compassionate staff is available 24/7. Now managed by SRI Management LLC\, their passion is providing residents and families with a uniquely exclusive senior housing experience embodying the core values of character\, compassion\, and commitment. Please register.
X-ALT-DESC;FMTTYPE=text/html:<span style="font-size:14px\;"><span style="font-family:tahoma\;">Join us for the Ribbon Cutting of Westhill Newnan Crossing Senior Living!&nbsp\;<span style="caret-color: rgb(0\, 0\, 0)\;">Westhill Newnan Crossing is a state-of-the-art Assisted Living &amp\; Memory Care community in Newnan\, Georgia. Their comfortable\, well-appointed apartments offer a variety of amenities and the peace of mind that comes from knowing their compassionate staff is available 24/7. Now managed by SRI Management LLC\, their passion is providing residents and families with a uniquely exclusive senior housing experience embodying the core values of character\, compassion\, and commitment. Please register.&nbsp\;</span></span></span>
LOCATION:285 Summerlin Boulevard Newnan\, GA 30265
UID:e.468.18244
SEQUENCE:3
DTSTAMP:20260424T174307Z
URL:https://www.newnancowetachamber.org/events/details/ribbon-cutting-westhill-of-newnan-crossing-senior-living-18244
END:VEVENT

END:VCALENDAR
