BEGIN:VCALENDAR
VERSION:2.0
PRODID:-//ChamberMaster//Event Calendar 2.0//EN
METHOD:PUBLISH
X-PUBLISHED-TTL:P3D
REFRESH-INTERVAL:P3D
CALSCALE:GREGORIAN
BEGIN:VEVENT
DTSTART:20240801T160000Z
DTEND:20240801T170000Z
X-MICROSOFT-CDO-ALLDAYEVENT:FALSE
SUMMARY:Ribbon Cutting: Whimzical Cafe
DESCRIPTION:Please join the Newnan-Coweta Chamber in celebrating the ribbon cutting of Whimzical Cafe! Whimzical Cafe serves breakfast\, lunch and dinner - open seven days a week. Full bar\, event venue serving specialty salads\, sandwiches\, soups\, flatbreads and desserts. Lunch will be served. Door prizes.
X-ALT-DESC;FMTTYPE=text/html:Please join the Newnan-Coweta Chamber in celebrating the ribbon cutting of Whimzical Cafe!&nbsp\;Whimzical Cafe serves breakfast\, lunch and dinner - open seven days a week. Full bar\, event venue serving specialty salads\, sandwiches\, soups\, flatbreads and desserts.&nbsp\;Lunch will be served. Door prizes.
LOCATION:33 East Broad Street Newnan\, GA 30263
UID:e.468.20460
SEQUENCE:3
DTSTAMP:20260420T033735Z
URL:https://www.newnancowetachamber.org/events/details/ribbon-cutting-whimzical-cafe-20460
END:VEVENT

END:VCALENDAR
