BEGIN:VCALENDAR
VERSION:2.0
PRODID:-//ChamberMaster//Event Calendar 2.0//EN
METHOD:PUBLISH
X-PUBLISHED-TTL:P3D
REFRESH-INTERVAL:P3D
CALSCALE:GREGORIAN
BEGIN:VEVENT
DTSTART:20210309T163000Z
DTEND:20210309T173000Z
X-MICROSOFT-CDO-ALLDAYEVENT:FALSE
SUMMARY:Ribbon Cutting: Woodspring Suites Atlanta Newnan
DESCRIPTION:Please join us as we celebrate the opening of Newnan's newest hotel. Come see this award-winning hotel that will ensure every guest's stay is enjoyable and comfortable as possible. Whether you're relocating to a new job or traveling for work this hotel will work for you. Come enjoy all the hospitality that they have to offer!
X-ALT-DESC;FMTTYPE=text/html:Please join us as we celebrate the opening of Newnan&#39\;s newest hotel. Come see this award-winning hotel that will ensure every guest&#39\;s stay is enjoyable and comfortable as possible. Whether you&#39\;re relocating to a new job or traveling for work this hotel will work for you. Come enjoy all the hospitality that they have to offer!&nbsp\;
LOCATION:WoodSpring Suites Atlanta Newnan 69 Diplomat Parkway | Newnan | GA 30265
UID:e.468.16883
SEQUENCE:3
DTSTAMP:20260425T145449Z
URL:https://www.newnancowetachamber.org/events/details/ribbon-cutting-woodspring-suites-atlanta-newnan-16883
END:VEVENT

END:VCALENDAR
