BEGIN:VCALENDAR
VERSION:2.0
PRODID:-//ChamberMaster//Event Calendar 2.0//EN
METHOD:PUBLISH
X-PUBLISHED-TTL:P3D
REFRESH-INTERVAL:P3D
CALSCALE:GREGORIAN
BEGIN:VEVENT
DTSTART:20230518T160000Z
DTEND:20230518T170000Z
X-MICROSOFT-CDO-ALLDAYEVENT:FALSE
SUMMARY:Ribbon Cutting: Woof Gang Bakery & Grooming
DESCRIPTION:Join us for the Ribbon Cutting of Woof Gang Bakery & Grooming! Woof Gang Bakery & Grooming is your neighborhood boutique pet store. They provide luxury spa services for dogs/puppies\, exclusive gourmet treats\, toys\, accessories\, and premium pet nutritious dog food. Please register!
X-ALT-DESC;FMTTYPE=text/html:<span style="font-size:14px\;"><span style="font-family:tahoma\;">Join us for the Ribbon Cutting of Woof Gang Bakery &amp\; Grooming!&nbsp\;<span style="caret-color: rgb(0\, 0\, 0)\;">Woof Gang Bakery &amp\; Grooming is your neighborhood boutique pet store. They provide luxury spa services for dogs/puppies\, exclusive gourmet treats\, toys\, accessories\, and premium pet nutritious dog food. Please register!</span></span></span>
LOCATION:358-B Newnan Crossing Bypass Newnan\, Georgia 30265
UID:e.468.18801
SEQUENCE:3
DTSTAMP:20260422T100053Z
URL:https://www.newnancowetachamber.org/events/details/ribbon-cutting-woof-gang-bakery-grooming-18801
END:VEVENT

END:VCALENDAR
