BEGIN:VCALENDAR
VERSION:2.0
PRODID:-//ChamberMaster//Event Calendar 2.0//EN
METHOD:PUBLISH
X-PUBLISHED-TTL:P3D
REFRESH-INTERVAL:P3D
CALSCALE:GREGORIAN
BEGIN:VEVENT
DTSTART:20230517T153000Z
DTEND:20230517T170000Z
X-MICROSOFT-CDO-ALLDAYEVENT:FALSE
SUMMARY:Secretary of State Raffensperger Luncheon
DESCRIPTION:Join us as we welcome Georgia Secretary of State\, Brad Raffensperger\, to Coweta County. This is a unique opportunity to hear firsthand from one of Georgia's top elected officials about the state's latest initiatives\, upcoming goals\, and how they will impact the local community. A boxed lunch is included with the cost of registration.
X-ALT-DESC;FMTTYPE=text/html:<span style="font-size:14px\;"><span style="font-family:arial\;"><span style="color: rgb(0\, 0\, 0)\; white-space: pre-wrap\;">Join us as we welcome Georgia Secretary of State\, Brad Raffensperger\, to Coweta County. This is a unique opportunity to hear firsthand from one of Georgia&#39\;s top elected officials about the state&#39\;s latest initiatives\, upcoming goals\, and how they will impact the local community. A boxed lunch is included with the cost of registration. </span></span></span>
LOCATION:Newnan Utilities Wahoo Creek Administrative Building 315 Millard Farmer Industrial Blvd. Newnan\, GA 30263
UID:e.468.18809
SEQUENCE:3
DTSTAMP:20260422T100915Z
URL:https://www.newnancowetachamber.org/events/details/secretary-of-state-raffensperger-luncheon-18809
END:VEVENT

END:VCALENDAR
